BEGIN:VCALENDAR
VERSION:2.0
PRODID:-//Colorado Office of Attorney Professional Excellence - ECPv6.15.20//NONSGML v1.0//EN
CALSCALE:GREGORIAN
METHOD:PUBLISH
X-WR-CALNAME:Colorado Office of Attorney Professional Excellence
X-ORIGINAL-URL:https://coloradoattorneyexcellence.org
X-WR-CALDESC:Events for Colorado Office of Attorney Professional Excellence
REFRESH-INTERVAL;VALUE=DURATION:PT1H
X-Robots-Tag:noindex
X-PUBLISHED-TTL:PT1H
BEGIN:VTIMEZONE
TZID:America/Denver
BEGIN:DAYLIGHT
TZOFFSETFROM:-0700
TZOFFSETTO:-0600
TZNAME:MDT
DTSTART:20230312T090000
END:DAYLIGHT
BEGIN:STANDARD
TZOFFSETFROM:-0600
TZOFFSETTO:-0700
TZNAME:MST
DTSTART:20231105T080000
END:STANDARD
BEGIN:DAYLIGHT
TZOFFSETFROM:-0700
TZOFFSETTO:-0600
TZNAME:MDT
DTSTART:20240310T090000
END:DAYLIGHT
BEGIN:STANDARD
TZOFFSETFROM:-0600
TZOFFSETTO:-0700
TZNAME:MST
DTSTART:20241103T080000
END:STANDARD
BEGIN:DAYLIGHT
TZOFFSETFROM:-0700
TZOFFSETTO:-0600
TZNAME:MDT
DTSTART:20250309T090000
END:DAYLIGHT
BEGIN:STANDARD
TZOFFSETFROM:-0600
TZOFFSETTO:-0700
TZNAME:MST
DTSTART:20251102T080000
END:STANDARD
END:VTIMEZONE
BEGIN:VEVENT
DTSTART;TZID=America/Denver:20240124T120000
DTEND;TZID=America/Denver:20240124T130000
DTSTAMP:20260423T122452
CREATED:20231128T203551Z
LAST-MODIFIED:20231128T203551Z
UID:3321-1706097600-1706101200@coloradoattorneyexcellence.org
SUMMARY:Strategic Relationship Development for Modern Lawyers
DESCRIPTION:In today’s dynamic legal landscape\, success as a lawyer extends beyond mere legal acumen. It hinges on your ability to cultivate and maintain meaningful relationships that fuel your professional growth. “Strategic Relationship Development for Modern Lawyers” is a dynamic and insightful presentation designed to equip legal professionals with the essential skills and strategies to build strong\, lasting connections in the digital age. \nTo attend via webinar\, register at https://us02web.zoom.us/webinar/register/WN_TWqJEREoSyiMTjyilGzseg
URL:https://coloradoattorneyexcellence.org/events/strategic-relationship-development-for-modern-lawyers/
ATTACH;FMTTYPE=image/png:https://coloradoattorneyexcellence.org/wp-content/uploads/2023/11/Relationships-January-2024.png
END:VEVENT
END:VCALENDAR