BEGIN:VCALENDAR
VERSION:2.0
PRODID:-//Colorado Office of Attorney Professional Excellence - ECPv6.15.20//NONSGML v1.0//EN
CALSCALE:GREGORIAN
METHOD:PUBLISH
X-ORIGINAL-URL:https://coloradoattorneyexcellence.org
X-WR-CALDESC:Events for Colorado Office of Attorney Professional Excellence
REFRESH-INTERVAL;VALUE=DURATION:PT1H
X-Robots-Tag:noindex
X-PUBLISHED-TTL:PT1H
BEGIN:VTIMEZONE
TZID:America/Denver
BEGIN:DAYLIGHT
TZOFFSETFROM:-0700
TZOFFSETTO:-0600
TZNAME:MDT
DTSTART:20240310T090000
END:DAYLIGHT
BEGIN:STANDARD
TZOFFSETFROM:-0600
TZOFFSETTO:-0700
TZNAME:MST
DTSTART:20241103T080000
END:STANDARD
BEGIN:DAYLIGHT
TZOFFSETFROM:-0700
TZOFFSETTO:-0600
TZNAME:MDT
DTSTART:20250309T090000
END:DAYLIGHT
BEGIN:STANDARD
TZOFFSETFROM:-0600
TZOFFSETTO:-0700
TZNAME:MST
DTSTART:20251102T080000
END:STANDARD
BEGIN:DAYLIGHT
TZOFFSETFROM:-0700
TZOFFSETTO:-0600
TZNAME:MDT
DTSTART:20260308T090000
END:DAYLIGHT
BEGIN:STANDARD
TZOFFSETFROM:-0600
TZOFFSETTO:-0700
TZNAME:MST
DTSTART:20261101T080000
END:STANDARD
END:VTIMEZONE
BEGIN:VEVENT
DTSTART;TZID=America/Denver:20251020T120000
DTEND;TZID=America/Denver:20251020T130000
DTSTAMP:20260425T082210
CREATED:20241121T185852Z
LAST-MODIFIED:20241121T185852Z
UID:3969-1760961600-1760965200@coloradoattorneyexcellence.org
SUMMARY:New Demands for In-House Counsel
DESCRIPTION:We will examine the evolving role of in-house legal teams in today’s rapidly changing business environment. This program will address how in-house counsel are adapting to new challenges\, including increased regulatory scrutiny\, ESG (environmental\, social\, governance) considerations\, data privacy\, and the need for legal departments to drive innovation and strategic value within their organizations. Attendees will explore the shifting expectations placed on in-house lawyers\, strategies for managing risk\, fostering cross-functional collaboration\, and delivering proactive legal solutions in response to emerging corporate demands. \nFree CLE Credit! \nWebinar Registration: https://us02web.zoom.us/webinar/register/WN_IBDdfztkRNSyZtX4sgLL8g
URL:https://coloradoattorneyexcellence.org/events/new-demands-for-in-house-counsel/
ATTACH;FMTTYPE=image/png:https://coloradoattorneyexcellence.org/wp-content/uploads/2024/11/In-House-October-2025.png
ORGANIZER;CN="Colorado Attorney Mentoring Program":MAILTO:r.peyton@csc.state.co.us
END:VEVENT
END:VCALENDAR