BEGIN:VCALENDAR
VERSION:2.0
PRODID:-//Colorado Office of Attorney Professional Excellence - ECPv6.15.20//NONSGML v1.0//EN
CALSCALE:GREGORIAN
METHOD:PUBLISH
X-ORIGINAL-URL:https://coloradoattorneyexcellence.org
X-WR-CALDESC:Events for Colorado Office of Attorney Professional Excellence
REFRESH-INTERVAL;VALUE=DURATION:PT1H
X-Robots-Tag:noindex
X-PUBLISHED-TTL:PT1H
BEGIN:VTIMEZONE
TZID:America/Denver
BEGIN:DAYLIGHT
TZOFFSETFROM:-0700
TZOFFSETTO:-0600
TZNAME:MDT
DTSTART:20250309T090000
END:DAYLIGHT
BEGIN:STANDARD
TZOFFSETFROM:-0600
TZOFFSETTO:-0700
TZNAME:MST
DTSTART:20251102T080000
END:STANDARD
BEGIN:DAYLIGHT
TZOFFSETFROM:-0700
TZOFFSETTO:-0600
TZNAME:MDT
DTSTART:20260308T090000
END:DAYLIGHT
BEGIN:STANDARD
TZOFFSETFROM:-0600
TZOFFSETTO:-0700
TZNAME:MST
DTSTART:20261101T080000
END:STANDARD
BEGIN:DAYLIGHT
TZOFFSETFROM:-0700
TZOFFSETTO:-0600
TZNAME:MDT
DTSTART:20270314T090000
END:DAYLIGHT
BEGIN:STANDARD
TZOFFSETFROM:-0600
TZOFFSETTO:-0700
TZNAME:MST
DTSTART:20271107T080000
END:STANDARD
END:VTIMEZONE
BEGIN:VEVENT
DTSTART;TZID=America/Denver:20260128T120000
DTEND;TZID=America/Denver:20260128T130000
DTSTAMP:20260423T111015
CREATED:20251105T182853Z
LAST-MODIFIED:20251212T180101Z
UID:4422-1769601600-1769605200@coloradoattorneyexcellence.org
SUMMARY:The Ethics of Influence: Building Relationships that Build Your Practice
DESCRIPTION:Successful legal professionals don’t just find clients—they build trust. This program explores the ethical and professional foundations of rainmaking\, focusing on how credibility\, communication\, and authenticity drive client development and professional reputation. Participants will learn how to develop business in ways consistent with their professional obligations and values\, using influence as a tool for integrity rather than pressure. \nFree CLE Credit! \nWebinar Registration: https://us02web.zoom.us/webinar/register/WN_Nyvf74rCTx22G71b_WJK6w
URL:https://coloradoattorneyexcellence.org/events/the-ethics-of-influence-building-relationships-that-build-your-practice/
LOCATION:Online
ATTACH;FMTTYPE=image/png:https://coloradoattorneyexcellence.org/wp-content/uploads/2025/11/Business-Development-January-2026.png
END:VEVENT
END:VCALENDAR