BEGIN:VCALENDAR
VERSION:2.0
PRODID:-//Colorado Office of Attorney Professional Excellence - ECPv6.15.20//NONSGML v1.0//EN
CALSCALE:GREGORIAN
METHOD:PUBLISH
X-WR-CALNAME:Colorado Office of Attorney Professional Excellence
X-ORIGINAL-URL:https://coloradoattorneyexcellence.org
X-WR-CALDESC:Events for Colorado Office of Attorney Professional Excellence
REFRESH-INTERVAL;VALUE=DURATION:PT1H
X-Robots-Tag:noindex
X-PUBLISHED-TTL:PT1H
BEGIN:VTIMEZONE
TZID:America/Denver
BEGIN:DAYLIGHT
TZOFFSETFROM:-0700
TZOFFSETTO:-0600
TZNAME:MDT
DTSTART:20250309T090000
END:DAYLIGHT
BEGIN:STANDARD
TZOFFSETFROM:-0600
TZOFFSETTO:-0700
TZNAME:MST
DTSTART:20251102T080000
END:STANDARD
BEGIN:DAYLIGHT
TZOFFSETFROM:-0700
TZOFFSETTO:-0600
TZNAME:MDT
DTSTART:20260308T090000
END:DAYLIGHT
BEGIN:STANDARD
TZOFFSETFROM:-0600
TZOFFSETTO:-0700
TZNAME:MST
DTSTART:20261101T080000
END:STANDARD
BEGIN:DAYLIGHT
TZOFFSETFROM:-0700
TZOFFSETTO:-0600
TZNAME:MDT
DTSTART:20270314T090000
END:DAYLIGHT
BEGIN:STANDARD
TZOFFSETFROM:-0600
TZOFFSETTO:-0700
TZNAME:MST
DTSTART:20271107T080000
END:STANDARD
END:VTIMEZONE
BEGIN:VEVENT
DTSTART;TZID=America/Denver:20260218T120000
DTEND;TZID=America/Denver:20260218T130000
DTSTAMP:20260423T094729
CREATED:20251029T191655Z
LAST-MODIFIED:20251210T184214Z
UID:4398-1771416000-1771419600@coloradoattorneyexcellence.org
SUMMARY:The First 90 Days: Succeeding in Your First Legal Job
DESCRIPTION:The transition from law school to legal practice can be both exciting and overwhelming. This panel offers practical guidance for new lawyers navigating their first 90 days on the job—whether in a firm\, government\, or nonprofit setting. Panelists will share insights on building credibility\, managing workload\, communicating effectively with supervisors and clients\, and developing healthy professional habits early on. Attendees will leave with concrete strategies to start strong\, avoid common pitfalls\, and lay the foundation for a successful and sustainable legal career. \nFree CLE Credit! \nWebinar Registration: https://us02web.zoom.us/webinar/register/WN_bmzswYBaS5W6EKTdLik8sQ
URL:https://coloradoattorneyexcellence.org/events/the-first-90-days/
LOCATION:Online
ATTACH;FMTTYPE=image/png:https://coloradoattorneyexcellence.org/wp-content/uploads/2025/10/First-90-Days-Feb-2026.png
END:VEVENT
END:VCALENDAR