BEGIN:VCALENDAR
VERSION:2.0
PRODID:-//Colorado Office of Attorney Professional Excellence - ECPv6.15.20//NONSGML v1.0//EN
CALSCALE:GREGORIAN
METHOD:PUBLISH
X-WR-CALNAME:Colorado Office of Attorney Professional Excellence
X-ORIGINAL-URL:https://coloradoattorneyexcellence.org
X-WR-CALDESC:Events for Colorado Office of Attorney Professional Excellence
REFRESH-INTERVAL;VALUE=DURATION:PT1H
X-Robots-Tag:noindex
X-PUBLISHED-TTL:PT1H
BEGIN:VTIMEZONE
TZID:America/Denver
BEGIN:DAYLIGHT
TZOFFSETFROM:-0700
TZOFFSETTO:-0600
TZNAME:MDT
DTSTART:20250309T090000
END:DAYLIGHT
BEGIN:STANDARD
TZOFFSETFROM:-0600
TZOFFSETTO:-0700
TZNAME:MST
DTSTART:20251102T080000
END:STANDARD
BEGIN:DAYLIGHT
TZOFFSETFROM:-0700
TZOFFSETTO:-0600
TZNAME:MDT
DTSTART:20260308T090000
END:DAYLIGHT
BEGIN:STANDARD
TZOFFSETFROM:-0600
TZOFFSETTO:-0700
TZNAME:MST
DTSTART:20261101T080000
END:STANDARD
BEGIN:DAYLIGHT
TZOFFSETFROM:-0700
TZOFFSETTO:-0600
TZNAME:MDT
DTSTART:20270314T090000
END:DAYLIGHT
BEGIN:STANDARD
TZOFFSETFROM:-0600
TZOFFSETTO:-0700
TZNAME:MST
DTSTART:20271107T080000
END:STANDARD
END:VTIMEZONE
BEGIN:VEVENT
DTSTART;TZID=America/Denver:20260325T120000
DTEND;TZID=America/Denver:20260325T130000
DTSTAMP:20260423T080012
CREATED:20251105T183147Z
LAST-MODIFIED:20251210T184236Z
UID:4426-1774440000-1774443600@coloradoattorneyexcellence.org
SUMMARY:The Lawyer Who Knows the Law but Not Themselves
DESCRIPTION:Knowing the law is essential—but knowing yourself is just as critical to a successful legal career. This session explores how self-awareness\, emotional intelligence\, and personal values impact decision-making\, client relationships\, and professional growth. Participants will learn strategies to align their strengths and motivations with their practice for more effective\, ethical\, and fulfilling lawyering. \nFree CLE Credit! \nWebinar Registration: https://us02web.zoom.us/webinar/register/WN_A8vzbm0WTNCGaLoSfej9NA
URL:https://coloradoattorneyexcellence.org/events/the-lawyer-who-knows-the-law-but-not-themselves/
LOCATION:Online
ATTACH;FMTTYPE=image/png:https://coloradoattorneyexcellence.org/wp-content/uploads/2025/11/Knows-Themselves-March-2026-1.png
END:VEVENT
END:VCALENDAR