BEGIN:VCALENDAR
VERSION:2.0
PRODID:-//Colorado Office of Attorney Professional Excellence - ECPv6.15.20//NONSGML v1.0//EN
CALSCALE:GREGORIAN
METHOD:PUBLISH
X-ORIGINAL-URL:https://coloradoattorneyexcellence.org
X-WR-CALDESC:Events for Colorado Office of Attorney Professional Excellence
REFRESH-INTERVAL;VALUE=DURATION:PT1H
X-Robots-Tag:noindex
X-PUBLISHED-TTL:PT1H
BEGIN:VTIMEZONE
TZID:America/Denver
BEGIN:DAYLIGHT
TZOFFSETFROM:-0700
TZOFFSETTO:-0600
TZNAME:MDT
DTSTART:20250309T090000
END:DAYLIGHT
BEGIN:STANDARD
TZOFFSETFROM:-0600
TZOFFSETTO:-0700
TZNAME:MST
DTSTART:20251102T080000
END:STANDARD
BEGIN:DAYLIGHT
TZOFFSETFROM:-0700
TZOFFSETTO:-0600
TZNAME:MDT
DTSTART:20260308T090000
END:DAYLIGHT
BEGIN:STANDARD
TZOFFSETFROM:-0600
TZOFFSETTO:-0700
TZNAME:MST
DTSTART:20261101T080000
END:STANDARD
BEGIN:DAYLIGHT
TZOFFSETFROM:-0700
TZOFFSETTO:-0600
TZNAME:MDT
DTSTART:20270314T090000
END:DAYLIGHT
BEGIN:STANDARD
TZOFFSETFROM:-0600
TZOFFSETTO:-0700
TZNAME:MST
DTSTART:20271107T080000
END:STANDARD
END:VTIMEZONE
BEGIN:VEVENT
DTSTART;TZID=America/Denver:20260610T120000
DTEND;TZID=America/Denver:20260610T130000
DTSTAMP:20260423T124026
CREATED:20251029T192049Z
LAST-MODIFIED:20251210T184343Z
UID:4402-1781092800-1781096400@coloradoattorneyexcellence.org
SUMMARY:Future-Proofing Your Practice: Skills Legal Professionals Need for the Next Decade
DESCRIPTION:The legal profession is evolving rapidly\, driven by technology\, client expectations\, and new models of service delivery. This panel examines the skills and mindsets lawyers need to stay competitive and relevant in the decade ahead. Panelists will explore emerging trends in AI\, legal operations\, access to justice\, and interdisciplinary collaboration\, as well as the human skills—like adaptability\, empathy\, and strategic thinking—that will define future-ready lawyers. Attendees will leave with actionable insights to strengthen their resilience\, innovation capacity\, and long-term professional success. \nFree CLE Credit! \nWebinar Registration: https://us02web.zoom.us/webinar/register/WN_4ziOFdrDQVKMUBuwzBrfqA
URL:https://coloradoattorneyexcellence.org/events/future-proofing-your-practice-skills-legal-professionals-need-for-the-next-decade/
LOCATION:Online
ATTACH;FMTTYPE=image/png:https://coloradoattorneyexcellence.org/wp-content/uploads/2025/10/Future-Proofing-June-2026.png
END:VEVENT
END:VCALENDAR